BEGIN:VCALENDAR
VERSION:2.0
PRODID:-//Fountain City Brass Band - ECPv6.15.20//NONSGML v1.0//EN
CALSCALE:GREGORIAN
METHOD:PUBLISH
X-WR-CALNAME:Fountain City Brass Band
X-ORIGINAL-URL:https://fcbb.net
X-WR-CALDESC:Events for Fountain City Brass Band
REFRESH-INTERVAL;VALUE=DURATION:PT1H
X-Robots-Tag:noindex
X-PUBLISHED-TTL:PT1H
BEGIN:VTIMEZONE
TZID:UTC
BEGIN:STANDARD
TZOFFSETFROM:+0000
TZOFFSETTO:+0000
TZNAME:UTC
DTSTART:20240101T000000
END:STANDARD
END:VTIMEZONE
BEGIN:VEVENT
DTSTART;TZID=UTC:20251212T190000
DTEND;TZID=UTC:20251212T210000
DTSTAMP:20260423T185950
CREATED:20250619T201325Z
LAST-MODIFIED:20250619T204439Z
UID:4659-1765566000-1765573200@fcbb.net
SUMMARY:Bells-a-Plenty
DESCRIPTION:Bells-a-Plenty: A Holiday Concert with Fountain City Brass Band \nCelebrate the magic of the season with the internationally acclaimed Fountain City Brass Band as they return to Hannibal\, Missouri for a festive evening of music\, memories\, and merriment! \n“Bells-a-Plenty” will fill the hall with the joyful sounds of holiday favorites\, sparkling brass arrangements\, and the warmth of community spirit. From timeless carols to dazzling showpieces\, this concert promises something for the whole family. \nDon’t miss this unforgettable holiday tradition! \nRoland Fine Arts Center\, Hannibal-LaGrange University \nRing in the season with brilliance\, beauty\, and brass!
URL:https://fcbb.net/event/bells-a-plenty/
LOCATION:Roland Fine Arts Center\, 2800 Palmyra Rd\, Hannibal\, MO\, 63401\, United States
ATTACH;FMTTYPE=image/png:https://fcbb.net/wp-content/uploads/2025/06/Screenshot-2025-06-19-at-3.44.08 PM.png
ORGANIZER;CN="US Masters Brass Entertainment Championships":MAILTO:info@usmasters.org
END:VEVENT
END:VCALENDAR