BEGIN:VCALENDAR
VERSION:2.0
PRODID:-//Fountain City Brass Band - ECPv6.15.20//NONSGML v1.0//EN
CALSCALE:GREGORIAN
METHOD:PUBLISH
X-WR-CALNAME:Fountain City Brass Band
X-ORIGINAL-URL:https://fcbb.net
X-WR-CALDESC:Events for Fountain City Brass Band
REFRESH-INTERVAL;VALUE=DURATION:PT1H
X-Robots-Tag:noindex
X-PUBLISHED-TTL:PT1H
BEGIN:VTIMEZONE
TZID:UTC
BEGIN:STANDARD
TZOFFSETFROM:+0000
TZOFFSETTO:+0000
TZNAME:UTC
DTSTART:20240101T000000
END:STANDARD
END:VTIMEZONE
BEGIN:VEVENT
DTSTART;TZID=UTC:20251122T100000
DTEND;TZID=UTC:20251122T170000
DTSTAMP:20260423T204719
CREATED:20250618T224543Z
LAST-MODIFIED:20250619T200355Z
UID:4631-1763805600-1763830800@fcbb.net
SUMMARY:U.S. Masters
DESCRIPTION:Experience the power\, precision\, and passion of top-tier brass band performance at the U.S. Masters Brass Band Championships\, hosted this year at the stunning Staley High School Performing Arts Center in Kansas City\, Missouri. \nThis premier event brings together leading brass bands from across the country in a head-to-head musical showcase. Each ensemble will deliver a dynamic program highlighting the full range of brass band repertoire—from traditional works to bold\, contemporary selections—all performed with unmatched energy and artistry. \nThe U.S. Masters offers both audiences and adjudicators an up-close look at the technical mastery and musical expression that define elite brass banding. Whether you’re a lifelong fan or new to the genre\, this championship is a must-see celebration of brass music at its finest.
URL:https://fcbb.net/event/us-masters/
LOCATION:Staley Performing Arts Center\, 2800 NE Shoal Creek Pkwy\, Kansas City\, MO\, 64156\, United States
ATTACH;FMTTYPE=image/jpeg:https://fcbb.net/wp-content/uploads/2025/06/480537611_612131281548579_510440373945242960_n.jpg
ORGANIZER;CN="US Masters Brass Entertainment Championships":MAILTO:info@usmasters.org
END:VEVENT
END:VCALENDAR