BEGIN:VCALENDAR
VERSION:2.0
PRODID:-//Fountain City Brass Band - ECPv6.15.20//NONSGML v1.0//EN
CALSCALE:GREGORIAN
METHOD:PUBLISH
X-WR-CALNAME:Fountain City Brass Band
X-ORIGINAL-URL:https://fcbb.net
X-WR-CALDESC:Events for Fountain City Brass Band
REFRESH-INTERVAL;VALUE=DURATION:PT1H
X-Robots-Tag:noindex
X-PUBLISHED-TTL:PT1H
BEGIN:VTIMEZONE
TZID:UTC
BEGIN:STANDARD
TZOFFSETFROM:+0000
TZOFFSETTO:+0000
TZNAME:UTC
DTSTART:20250101T000000
END:STANDARD
END:VTIMEZONE
BEGIN:VEVENT
DTSTART;VALUE=DATE:20260619
DTEND;VALUE=DATE:20260621
DTSTAMP:20260424T155932
CREATED:20250723T020215Z
LAST-MODIFIED:20250723T020215Z
UID:7191-1781827200-1781999999@fcbb.net
SUMMARY:Wurst Brass Festival
DESCRIPTION:It’s the wurst fest with the best brass!\nDates: Friday & Saturday\, June 19-20\, 2026Locations: Amana\, Iowa – Festhalle Barn & Millstream Brewing Co.Admission: $5 (Discounts available with Wurst Festival handstamp or wristband)​ \nTwo Days of World-Class Brass & German Festivities! \nJoin us for an unforgettable weekend of live brass band music\, mouthwatering German food\, and festival fun! Hosted by Iowa Brass\, the Wurst Brass Festival runs alongside Amana’s famous Wurst Festival\, bringing together top brass bands from across the nation for an electrifying celebration.
URL:https://fcbb.net/event/wurst-brass-festival/
LOCATION:Amana Colonies\, 622 46th Ave\, Amana\, IA\, 52203
ATTACH;FMTTYPE=image/avif:https://fcbb.net/wp-content/uploads/2025/07/Wurst-Brass-logo-final.avif
END:VEVENT
END:VCALENDAR