BEGIN:VCALENDAR
VERSION:2.0
PRODID:-//Fountain City Brass Band - ECPv6.15.20//NONSGML v1.0//EN
CALSCALE:GREGORIAN
METHOD:PUBLISH
X-ORIGINAL-URL:https://fcbb.net
X-WR-CALDESC:Events for Fountain City Brass Band
REFRESH-INTERVAL;VALUE=DURATION:PT1H
X-Robots-Tag:noindex
X-PUBLISHED-TTL:PT1H
BEGIN:VTIMEZONE
TZID:UTC
BEGIN:STANDARD
TZOFFSETFROM:+0000
TZOFFSETTO:+0000
TZNAME:UTC
DTSTART:20250101T000000
END:STANDARD
END:VTIMEZONE
BEGIN:VEVENT
DTSTART;TZID=UTC:20260517T143000
DTEND;TZID=UTC:20261031T233000
DTSTAMP:20260423T124324
CREATED:20260311T053815Z
LAST-MODIFIED:20260311T055223Z
UID:10000019-1779028200-1793489400@fcbb.net
SUMMARY:2026–2027 Fountain City Brass Band 'Pops at the Pavilion' Season Subscription
DESCRIPTION:Enjoy the complete Fountain City Brass Band concert series with one convenient Season Subscription. Subscribers receive 15% savings\, early seating access\, and guaranteed admission to all four concerts at The Pavilion at John Knox Village. \nFrom thrilling cinematic favorites and patriotic celebration to Halloween spectacle and festive holiday music\, the season offers something for everyone. \nYour subscription includes admission to all four concerts: \n• Music of the Night – Saturday\, October 31\, 2:00 PM\n• Bells-a-Plenty: A Fountain City Holiday Celebration – Thursday\, December 10\, 7:00 PM\n• Reel Love: Music from the Silver Screen – Saturday\, February 13\, 7:00 PM\n• Red\, White\, & Brass! – Saturday\, May 29\, 7:00 PM \nAll performances take place at The Pavilion at John Knox Village. \nSeason subscribers enjoy the convenience of one purchase for the entire series and the best price for experiencing every concert.
URL:https://fcbb.net/event/2026-2027-fountain-city-brass-band-season-subscription/
LOCATION:The Pavilion at John Knox Village\, 520 NW Murray Road\, Lee's Summit\, MO\, 64081\, United States
CATEGORIES:Pops at the Pavilion Series
ATTACH;FMTTYPE=image/png:https://fcbb.net/wp-content/uploads/2026/03/ChatGPT-Image-Mar-11-2026-at-12_30_31-AM.png
ORGANIZER;CN="Fountain City Brass Band":MAILTO:fcbb@fcbb.net
END:VEVENT
BEGIN:VEVENT
DTSTART;TZID=UTC:20260517T190000
DTEND;TZID=UTC:20260517T203000
DTSTAMP:20260423T124324
CREATED:20260309T170202Z
LAST-MODIFIED:20260422T133756Z
UID:10000014-1779044400-1779049800@fcbb.net
SUMMARY:Brass Spectacular
DESCRIPTION:The acclaimed Fountain City Brass Band brings its thrilling sound to The Pavilion at John Knox Village for an unforgettable evening of musical brilliance. Brass Spectacular showcases the full power\, color\, and virtuosity of the modern brass band\, featuring dazzling solos\, majestic fanfares\, beloved classics\, and exciting contemporary works. \nFrom soaring melodies to thunderous climaxes\, audiences will experience the unique warmth and brilliance that only a world-class brass ensemble can deliver. Whether you are a longtime lover of brass music or hearing a brass band for the first time\, this concert promises an inspiring and entertaining musical journey. \nJoin us for this special performance as Fountain City Brass launches its exciting new partnership with the Pavilion and celebrates the extraordinary sound of brass.
URL:https://fcbb.net/event/brass-spectacular/
LOCATION:The Pavilion at John Knox Village\, 520 NW Murray Road\, Lee's Summit\, MO\, 64081\, United States
CATEGORIES:Pops at the Pavilion Series
ATTACH;FMTTYPE=image/png:https://fcbb.net/wp-content/uploads/2026/03/ChatGPT-Image-Mar-11-2026-at-12_16_31-AM.png
ORGANIZER;CN="Fountain City Brass Band":MAILTO:fcbb@fcbb.net
END:VEVENT
BEGIN:VEVENT
DTSTART;TZID=UTC:20260519T190000
DTEND;TZID=UTC:20260519T210000
DTSTAMP:20260423T124324
CREATED:20250723T015415Z
LAST-MODIFIED:20260311T005834Z
UID:10000010-1779217200-1779224400@fcbb.net
SUMMARY:Midwest Regional Tuba Euphonium Conference
DESCRIPTION:The Midwest Regional Tuba Euphonium Conference (MWRTEC)\, sponsored by the International Tuba and Euphonium Association (ITEA)\, is a premier gathering of low brass musicians\, educators\, students\, and enthusiasts from across the region. This multi-day event features masterclasses\, solo and ensemble competitions\, exhibitor showcases\, and performances by leading artists in the field. MRTEC offers a unique opportunity to connect with the broader tuba and euphonium community while gaining fresh perspectives on performance\, pedagogy\, and innovation. \nFountain City Brass Band is scheduled to perform as one of the evening concert headliners—final details to be confirmed.
URL:https://fcbb.net/event/midwest-regional-tuba-euphonium-conference/
LOCATION:James C. Olson Performing Arts Center\, 4949 Cherry St\, Kansas City\, MO\, 64110
ATTACH;FMTTYPE=image/png:https://fcbb.net/wp-content/uploads/2025/07/International_Tuba_Euphonium_Association_logo.png
ORGANIZER;CN="International Tuba & Euphonium Association":MAILTO:jarrett.mccourt@umkc.edu
END:VEVENT
BEGIN:VEVENT
DTSTART;VALUE=DATE:20260619
DTEND;VALUE=DATE:20260621
DTSTAMP:20260423T124324
CREATED:20250723T020215Z
LAST-MODIFIED:20250723T020215Z
UID:10000011-1781827200-1781999999@fcbb.net
SUMMARY:Wurst Brass Festival
DESCRIPTION:It’s the wurst fest with the best brass!\nDates: Friday & Saturday\, June 19-20\, 2026Locations: Amana\, Iowa – Festhalle Barn & Millstream Brewing Co.Admission: $5 (Discounts available with Wurst Festival handstamp or wristband)​ \nTwo Days of World-Class Brass & German Festivities! \nJoin us for an unforgettable weekend of live brass band music\, mouthwatering German food\, and festival fun! Hosted by Iowa Brass\, the Wurst Brass Festival runs alongside Amana’s famous Wurst Festival\, bringing together top brass bands from across the nation for an electrifying celebration.
URL:https://fcbb.net/event/wurst-brass-festival/
LOCATION:Amana Colonies\, 622 46th Ave\, Amana\, IA\, 52203
ATTACH;FMTTYPE=image/avif:https://fcbb.net/wp-content/uploads/2025/07/Wurst-Brass-logo-final.avif
END:VEVENT
BEGIN:VEVENT
DTSTART;TZID=UTC:20261031T140000
DTEND;TZID=UTC:20261031T153000
DTSTAMP:20260423T124324
CREATED:20260311T020051Z
LAST-MODIFIED:20260316T133643Z
UID:10000015-1793455200-1793460600@fcbb.net
SUMMARY:Music of the Night
DESCRIPTION:Step into a world of mystery\, drama\, and unforgettable melodies as the Fountain City Brass Band presents Music of the Night\, a thrilling Halloween-season concert filled with powerful music inspired by the stage\, screen\, and shadows of the night. \nFrom hauntingly beautiful melodies to electrifying showstoppers\, this program explores the darker\, more dramatic side of music. Audiences will experience spine-tingling favorites from musical theatre\, cinematic classics\, and evocative works that capture the atmosphere of nightfall\, mystery\, and imagination. \nThe rich\, powerful sound of the modern brass band brings these stories to life with breathtaking color and intensity\, creating an afternoon of music that is both thrilling and enchanting. \nWhether you love the drama of Broadway\, the excitement of film music\, or simply the spectacle of a world-class brass band\, Music of the Night promises an unforgettable musical experience. \n📅 Saturday\, October 31🕑 2:00 PM📍 The Pavilion at John Knox Village \nCostumes are welcome\, and audiences of all ages are invited to celebrate the spirit of the season with an afternoon of spectacular music. \nSeason Ticket Holders and VIP Patrons receive early entry beginning one hour before concert time. Doors open to all other guests 30 minutes prior to the performance.
URL:https://fcbb.net/event/music-of-the-night/
LOCATION:The Pavilion at John Knox Village\, 520 NW Murray Road\, Lee's Summit\, MO\, 64081\, United States
CATEGORIES:Pops at the Pavilion Series
ATTACH;FMTTYPE=image/png:https://fcbb.net/wp-content/uploads/2026/03/ChatGPT-Image-Mar-10-2026-at-08_02_31-PM.png
ORGANIZER;CN="Fountain City Brass Band":MAILTO:fcbb@fcbb.net
END:VEVENT
BEGIN:VEVENT
DTSTART;TZID=UTC:20261210T190000
DTEND;TZID=UTC:20261210T213000
DTSTAMP:20260423T124324
CREATED:20260311T043139Z
LAST-MODIFIED:20260316T143354Z
UID:10000017-1796929200-1796938200@fcbb.net
SUMMARY:Bells-a-Plenty: A Fountain City Holiday Celebration
DESCRIPTION:Celebrate the magic of the season with Bells-a-Plenty\, a festive holiday concert presented by the Fountain City Brass Band. Filled with joyful carols\, sparkling seasonal favorites\, and beloved holiday classics\, this concert captures the warmth\, brilliance\, and excitement of the holiday season. \nThe rich sound of brass and percussion brings familiar melodies to life in a program designed to delight audiences of all ages. From triumphant fanfares to heartwarming holiday tunes\, Bells-a-Plenty creates the perfect atmosphere for celebrating the season with family and friends. \nWhether you are continuing a cherished holiday tradition or discovering the excitement of brass band music for the first time\, this concert promises an afternoon filled with joy\, energy\, and holiday spirit. \nJoin the Fountain City Brass Band as we celebrate the sounds of the season and share the festive brilliance of brass in this special holiday performance. \nSeason Ticket Holders and VIP Patrons receive early entry beginning one hour before concert time. Doors open to all other guests 30 minutes prior to the performance.
URL:https://fcbb.net/event/bells-a-plenty-26/
LOCATION:The Pavilion at John Knox Village\, 520 NW Murray Road\, Lee's Summit\, MO\, 64081\, United States
CATEGORIES:Pops at the Pavilion Series
ATTACH;FMTTYPE=image/png:https://fcbb.net/wp-content/uploads/2026/03/ChatGPT-Image-Mar-10-2026-at-11_21_58-PM.png
ORGANIZER;CN="Fountain City Brass Band":MAILTO:fcbb@fcbb.net
END:VEVENT
BEGIN:VEVENT
DTSTART;TZID=UTC:20270213T190000
DTEND;TZID=UTC:20270213T213000
DTSTAMP:20260423T124324
CREATED:20260311T041648Z
LAST-MODIFIED:20260316T142759Z
UID:10000016-1802545200-1802554200@fcbb.net
SUMMARY:Reel Love: Music from the Silver Screen
DESCRIPTION:Experience the glamour and romance of Hollywood as the Fountain City Brass Band presents Reel Love: Music from the Silver Screen. This unforgettable evening celebrates the music behind cinema’s most beloved stories\, bringing the warmth\, power\, and brilliance of the brass band to the soundtracks that have captivated audiences for generations. \nFrom sweeping love themes to iconic melodies that have defined some of the most memorable moments in film\, this concert explores the emotional power of movie music. Whether tender and lyrical or bold and cinematic\, these unforgettable scores come to life in the rich and vibrant sound of brass. \nJoin us for an evening of nostalgia\, romance\, and the magic of the movies as Fountain City Brass Band brings the great love stories of Hollywood to life in concert. \nSaturday\, February 13 | 7:00 PMThe Pavilion at John Knox Village \nExperience the music that made movie history in a spectacular evening of cinematic sound. \nSeason Ticket Holders and VIP Patrons receive early entry beginning one hour before concert time. Doors open to all other guests 30 minutes prior to the performance.
URL:https://fcbb.net/event/reel-love-music-from-the-silver-screen/
LOCATION:The Pavilion at John Knox Village\, 520 NW Murray Road\, Lee's Summit\, MO\, 64081\, United States
CATEGORIES:Pops at the Pavilion Series
ATTACH;FMTTYPE=image/png:https://fcbb.net/wp-content/uploads/2026/03/ChatGPT-Image-Mar-10-2026-at-09_32_10-PM.png
ORGANIZER;CN="Fountain City Brass Band":MAILTO:fcbb@fcbb.net
END:VEVENT
BEGIN:VEVENT
DTSTART;TZID=UTC:20270529T190000
DTEND;TZID=UTC:20270529T203000
DTSTAMP:20260423T124324
CREATED:20260311T045050Z
LAST-MODIFIED:20260316T144052Z
UID:10000018-1811617200-1811622600@fcbb.net
SUMMARY:Red\, White\, & Brass!
DESCRIPTION:Celebrate Memorial Day weekend with Red\, White\, & Brass!\, a powerful and uplifting concert presented by the Fountain City Brass Band. This patriotic program honors the spirit\, service\, and sacrifice that have shaped the American story through music that has inspired generations. \nFeaturing stirring marches\, beloved patriotic favorites\, and music that captures the pride and optimism of our nation\, the concert showcases the brilliance and excitement of the modern brass band. From triumphant fanfares to heartfelt musical tributes\, Red\, White\, & Brass! offers a moving and inspiring musical experience. \nJoin us for an evening of great music\, community\, and celebration as the Fountain City Brass Band brings the sounds of America to life in this special Memorial Day weekend performance. \nSeason Ticket Holders and VIP Patrons receive early entry beginning one hour before concert time. Doors open to all other guests 30 minutes prior to the performance.
URL:https://fcbb.net/event/red-white-brass/
LOCATION:The Pavilion at John Knox Village\, 520 NW Murray Road\, Lee's Summit\, MO\, 64081\, United States
CATEGORIES:Pops at the Pavilion Series
ATTACH;FMTTYPE=image/png:https://fcbb.net/wp-content/uploads/2026/03/ChatGPT-Image-Mar-10-2026-at-11_44_38-PM.png
ORGANIZER;CN="Fountain City Brass Band":MAILTO:fcbb@fcbb.net
END:VEVENT
END:VCALENDAR